BEGIN:VCALENDAR
VERSION:2.0
PRODID:-//Legal Services of Southern Missouri - ECPv6.15.20//NONSGML v1.0//EN
CALSCALE:GREGORIAN
METHOD:PUBLISH
X-ORIGINAL-URL:https://www.lsosm.org
X-WR-CALDESC:Events for Legal Services of Southern Missouri
REFRESH-INTERVAL;VALUE=DURATION:PT1H
X-Robots-Tag:noindex
X-PUBLISHED-TTL:PT1H
BEGIN:VTIMEZONE
TZID:America/Chicago
BEGIN:DAYLIGHT
TZOFFSETFROM:-0600
TZOFFSETTO:-0500
TZNAME:CDT
DTSTART:20200308T080000
END:DAYLIGHT
BEGIN:STANDARD
TZOFFSETFROM:-0500
TZOFFSETTO:-0600
TZNAME:CST
DTSTART:20201101T070000
END:STANDARD
BEGIN:DAYLIGHT
TZOFFSETFROM:-0600
TZOFFSETTO:-0500
TZNAME:CDT
DTSTART:20210314T080000
END:DAYLIGHT
BEGIN:STANDARD
TZOFFSETFROM:-0500
TZOFFSETTO:-0600
TZNAME:CST
DTSTART:20211107T070000
END:STANDARD
BEGIN:DAYLIGHT
TZOFFSETFROM:-0600
TZOFFSETTO:-0500
TZNAME:CDT
DTSTART:20220313T080000
END:DAYLIGHT
BEGIN:STANDARD
TZOFFSETFROM:-0500
TZOFFSETTO:-0600
TZNAME:CST
DTSTART:20221106T070000
END:STANDARD
END:VTIMEZONE
BEGIN:VEVENT
DTSTART;TZID=America/Chicago:20210416T110000
DTEND;TZID=America/Chicago:20210416T120000
DTSTAMP:20260425T225916
CREATED:20210322T150755Z
LAST-MODIFIED:20210322T150755Z
UID:10000040-1618570800-1618574400@www.lsosm.org
SUMMARY:Board of Directors Meeting
DESCRIPTION:
URL:https://www.lsosm.org/event/board-of-directors-meeting-5/
LOCATION:Legal Services of Southern Missouri\, 809 North Campbell Avenue\, Springfield\, MO\, 65802\, United States
GEO:37.2163505;-93.296835
X-APPLE-STRUCTURED-LOCATION;VALUE=URI;X-ADDRESS=Legal Services of Southern Missouri 809 North Campbell Avenue Springfield MO 65802 United States;X-APPLE-RADIUS=500;X-TITLE=809 North Campbell Avenue:geo:-93.296835,37.2163505
END:VEVENT
END:VCALENDAR